BEGIN:VCALENDAR
VERSION:2.0
PRODID:-//Restauration tableaux anciens, cours / stage et expertise - ECPv6.15.20//NONSGML v1.0//EN
CALSCALE:GREGORIAN
METHOD:PUBLISH
X-WR-CALNAME:Restauration tableaux anciens, cours / stage et expertise
X-ORIGINAL-URL:https://restauration-de-tableaux.fr
X-WR-CALDESC:Évènements pour Restauration tableaux anciens, cours / stage et expertise
REFRESH-INTERVAL;VALUE=DURATION:PT1H
X-Robots-Tag:noindex
X-PUBLISHED-TTL:PT1H
BEGIN:VTIMEZONE
TZID:Europe/Paris
BEGIN:DAYLIGHT
TZOFFSETFROM:+0100
TZOFFSETTO:+0200
TZNAME:CEST
DTSTART:20250330T010000
END:DAYLIGHT
BEGIN:STANDARD
TZOFFSETFROM:+0200
TZOFFSETTO:+0100
TZNAME:CET
DTSTART:20251026T010000
END:STANDARD
BEGIN:DAYLIGHT
TZOFFSETFROM:+0100
TZOFFSETTO:+0200
TZNAME:CEST
DTSTART:20260329T010000
END:DAYLIGHT
BEGIN:STANDARD
TZOFFSETFROM:+0200
TZOFFSETTO:+0100
TZNAME:CET
DTSTART:20261025T010000
END:STANDARD
BEGIN:DAYLIGHT
TZOFFSETFROM:+0100
TZOFFSETTO:+0200
TZNAME:CEST
DTSTART:20270328T010000
END:DAYLIGHT
BEGIN:STANDARD
TZOFFSETFROM:+0200
TZOFFSETTO:+0100
TZNAME:CET
DTSTART:20271031T010000
END:STANDARD
END:VTIMEZONE
BEGIN:VEVENT
DTSTART;TZID=Europe/Paris:20260430T170000
DTEND;TZID=Europe/Paris:20260430T190000
DTSTAMP:20260420T114750
CREATED:20240827T102855Z
LAST-MODIFIED:20260331T140703Z
UID:1700-1777568400-1777575600@restauration-de-tableaux.fr
SUMMARY:Cours de Restauration de Tableaux
DESCRIPTION:Et si vous le faisiez-vous-même?
URL:https://restauration-de-tableaux.fr/event/cours-de-restauration-de-tableaux-2/
LOCATION:8 Rue Félibien 44000 Nantes\, 8 Rue Félibien\, Nantes
END:VEVENT
BEGIN:VEVENT
DTSTART;TZID=Europe/Paris:20260507T170000
DTEND;TZID=Europe/Paris:20260507T190000
DTSTAMP:20260420T114750
CREATED:20250621T093026Z
LAST-MODIFIED:20260331T140821Z
UID:2559-1778173200-1778180400@restauration-de-tableaux.fr
SUMMARY:Cours de restauration de tableaux
DESCRIPTION:Et si vous le faisiez vous-même ?
URL:https://restauration-de-tableaux.fr/event/cours-de-restauration-de-tableaux/
LOCATION:8 Rue Félibien 44000 Nantes\, 8 Rue Félibien\, Nantes
END:VEVENT
BEGIN:VEVENT
DTSTART;TZID=Europe/Paris:20260521T170000
DTEND;TZID=Europe/Paris:20260521T190000
DTSTAMP:20260420T114750
CREATED:20240903T133135Z
LAST-MODIFIED:20260331T141026Z
UID:1716-1779382800-1779390000@restauration-de-tableaux.fr
SUMMARY:Cours de Restauration de Tableaux
DESCRIPTION:Décrassage\, dévernissage\, pose de vernis final\n\n\n\nEt si vous le faisiez vous-même?
URL:https://restauration-de-tableaux.fr/event/cours-de-restauration-de-tableaux-6/
LOCATION:8 Rue Félibien 44000 Nantes\, 8 Rue Félibien\, Nantes
END:VEVENT
BEGIN:VEVENT
DTSTART;TZID=Europe/Paris:20260523T100000
DTEND;TZID=Europe/Paris:20260523T120000
DTSTAMP:20260420T114750
CREATED:20241018T082438Z
LAST-MODIFIED:20260331T140747Z
UID:1847-1779530400-1779537600@restauration-de-tableaux.fr
SUMMARY:Cours de restauration de tableaux
DESCRIPTION:Et si vous le faisiez vous-même?
URL:https://restauration-de-tableaux.fr/event/cours-de-restauration-de-tableaux-14/
LOCATION:8 Rue Félibien 44000 Nantes\, 8 Rue Félibien\, Nantes
END:VEVENT
BEGIN:VEVENT
DTSTART;TZID=Europe/Paris:20260528T170000
DTEND;TZID=Europe/Paris:20260528T190000
DTSTAMP:20260420T114750
CREATED:20240827T102227Z
LAST-MODIFIED:20260331T141134Z
UID:1695-1779987600-1779994800@restauration-de-tableaux.fr
SUMMARY:Cours de Restauration de Tableaux
DESCRIPTION:Et si vous le faisiez vous-même?
URL:https://restauration-de-tableaux.fr/event/1695/
LOCATION:8 Rue Félibien 44000 Nantes\, 8 Rue Félibien\, Nantes
END:VEVENT
BEGIN:VEVENT
DTSTART;TZID=Europe/Paris:20260604T170000
DTEND;TZID=Europe/Paris:20260604T190000
DTSTAMP:20260420T114750
CREATED:20241005T101649Z
LAST-MODIFIED:20260331T141318Z
UID:1540-1780592400-1780599600@restauration-de-tableaux.fr
SUMMARY:Cours de Restauration de Tableaux
DESCRIPTION:Et si vous le faisiez vous-même?
URL:https://restauration-de-tableaux.fr/event/cours-de-restauration-de-tableaux-11/
LOCATION:8 Rue Félibien 44000 Nantes\, 8 Rue Félibien\, Nantes
END:VEVENT
BEGIN:VEVENT
DTSTART;TZID=Europe/Paris:20260611T170000
DTEND;TZID=Europe/Paris:20260611T190000
DTSTAMP:20260420T114750
CREATED:20240919T133818Z
LAST-MODIFIED:20260331T141344Z
UID:1788-1781197200-1781204400@restauration-de-tableaux.fr
SUMMARY:Cours de Restauration de Tableaux
DESCRIPTION:Et si vous le faisiez vous-même?
URL:https://restauration-de-tableaux.fr/event/cours-de-restauration-de-tableaux-10/
LOCATION:8 Rue Félibien 44000 Nantes\, 8 Rue Félibien\, Nantes
END:VEVENT
BEGIN:VEVENT
DTSTART;TZID=Europe/Paris:20260613T100000
DTEND;TZID=Europe/Paris:20260613T120000
DTSTAMP:20260420T114750
CREATED:20240827T100737Z
LAST-MODIFIED:20260331T141001Z
UID:1693-1781344800-1781352000@restauration-de-tableaux.fr
SUMMARY:Cours de Restauration de Tableaux
DESCRIPTION:Et si vous le faisiez vous-même?
URL:https://restauration-de-tableaux.fr/event/cours-de-restauration-de-tableaux-3/
LOCATION:8 Rue Félibien 44000 Nantes\, 8 Rue Félibien\, Nantes
END:VEVENT
BEGIN:VEVENT
DTSTART;TZID=Europe/Paris:20260618T170000
DTEND;TZID=Europe/Paris:20260618T190000
DTSTAMP:20260420T114750
CREATED:20240903T133816Z
LAST-MODIFIED:20260331T141503Z
UID:1718-1781802000-1781809200@restauration-de-tableaux.fr
SUMMARY:Cours de restauration de Tableaux
DESCRIPTION:Et si vous le faisiez vous-même?
URL:https://restauration-de-tableaux.fr/event/cours-de-restauration-de-tableaux-7/
LOCATION:8 Rue Félibien 44000 Nantes\, 8 Rue Félibien\, Nantes
END:VEVENT
BEGIN:VEVENT
DTSTART;TZID=Europe/Paris:20260620T100000
DTEND;TZID=Europe/Paris:20260620T120000
DTSTAMP:20260420T114750
CREATED:20250901T093106Z
LAST-MODIFIED:20260331T141409Z
UID:2578-1781949600-1781956800@restauration-de-tableaux.fr
SUMMARY:Cours de restauration de tableaux
DESCRIPTION:Et si vous le faisiez vous-même ?
URL:https://restauration-de-tableaux.fr/event/cours-de-restauration-de-tableaux-12/
LOCATION:8 Rue Félibien 44000 Nantes\, 8 Rue Félibien\, Nantes
END:VEVENT
END:VCALENDAR